BEGIN:VCALENDAR
VERSION:2.0
PRODID:-//Janie Aschieri - ECPv6.15.20//NONSGML v1.0//EN
CALSCALE:GREGORIAN
METHOD:PUBLISH
X-WR-CALNAME:Janie Aschieri
X-ORIGINAL-URL:https://www.janie-aschieri.fr
X-WR-CALDESC:Évènements pour Janie Aschieri
REFRESH-INTERVAL;VALUE=DURATION:PT1H
X-Robots-Tag:noindex
X-PUBLISHED-TTL:PT1H
BEGIN:VTIMEZONE
TZID:Europe/Paris
BEGIN:DAYLIGHT
TZOFFSETFROM:+0100
TZOFFSETTO:+0200
TZNAME:CEST
DTSTART:20240331T010000
END:DAYLIGHT
BEGIN:STANDARD
TZOFFSETFROM:+0200
TZOFFSETTO:+0100
TZNAME:CET
DTSTART:20241027T010000
END:STANDARD
BEGIN:DAYLIGHT
TZOFFSETFROM:+0100
TZOFFSETTO:+0200
TZNAME:CEST
DTSTART:20250330T010000
END:DAYLIGHT
BEGIN:STANDARD
TZOFFSETFROM:+0200
TZOFFSETTO:+0100
TZNAME:CET
DTSTART:20251026T010000
END:STANDARD
BEGIN:DAYLIGHT
TZOFFSETFROM:+0100
TZOFFSETTO:+0200
TZNAME:CEST
DTSTART:20260329T010000
END:DAYLIGHT
BEGIN:STANDARD
TZOFFSETFROM:+0200
TZOFFSETTO:+0100
TZNAME:CET
DTSTART:20261025T010000
END:STANDARD
END:VTIMEZONE
BEGIN:VEVENT
DTSTART;TZID=Europe/Paris:20251027T140000
DTEND;TZID=Europe/Paris:20251027T160000
DTSTAMP:20260420T105010
CREATED:20251021T110814Z
LAST-MODIFIED:20251021T111611Z
UID:2649-1761573600-1761580800@www.janie-aschieri.fr
SUMMARY:INITIATION à la Pleine Conscience de Soi - Dans le monde des pensées
DESCRIPTION:Dans le monde des pensées \nLes ateliers d’initiation à la Pleine Conscience de Soi\, c’est l’occasion de s’offrir un espace à Soi d’introspection. \nNous passons 2H ensemble pour comprendre davantage qui vous êtes. Vous choisissez une thématique\, quelque chose que vous souhaitez comprendre (émotions\, automatismes\, comportements\, troubles\, etc.). Les ateliers d’INITIATION permettent de se familiariser avec les outils d’introspection. \nLe concept est d’adapter les principes de la Méditation de Pleine Conscience à la Psychologie\, afin de prêter une attention particulière sur nous. Des temps de marche\, de réflexion\, de partage\, d’échange\, de méditation\, s’alternent\, selon le rythme du groupe \nCet atelier sera dédié au monde des pensées. L’idée est de comprendre comment notre système de pensées fonctionne afin d’y prête une attention particulière et d’y être davantage à l’écoute. Nos pensées nous renseignent sur la façon dont nous nous sommes construits car elles sont le reflet de tous nos apprentissages (enseignements culturels\, dictats familiaux\, croyances\, etc.). \nINFORMATIONS \nRESERVATIONS \nJanie Aschieri – Psychologue
URL:https://www.janie-aschieri.fr/event/ateliers-pleine-conscience-de-soi-pensees-1/
LOCATION:Plage des aresquiers\, plage des aresquiers\, Frontignan\, 34110\, France
CATEGORIES:INITIATION
ATTACH;FMTTYPE=image/png:https://www.janie-aschieri.fr/wp-content/uploads/2025/10/8.png
END:VEVENT
BEGIN:VEVENT
DTSTART;TZID=Europe/Paris:20251026T160000
DTEND;TZID=Europe/Paris:20251026T180000
DTSTAMP:20260420T105010
CREATED:20251016T104518Z
LAST-MODIFIED:20251016T104754Z
UID:2644-1761494400-1761501600@www.janie-aschieri.fr
SUMMARY:INITIATION à la Pleine Conscience de Soi - Exploration des émotions
DESCRIPTION:Exploration des émotions\nLes ateliers d’initiation à la Pleine Conscience de Soi en groupe\, c’est l’occasion de s’offrir un espace à Soi d’introspection. \nNous passons 2H ensemble pour comprendre davantage qui vous êtes. Vous choisissez une thématique\, quelque chose que vous souhaitez comprendre (émotions\, pensées\, automatismes\, comportements\, troubles\, etc.). Les ateliers d’INITIATION à la Pleine Conscience de Soi permettent de se familiariser avec les outils d’introspection. \nLe concept est d’adapter les principes de la Méditation de Pleine Conscience à la Psychologie\, afin de prêter une attention particulière sur nous. Des temps de marche\, de réflexion\, de partage\, d’échange\, de Méditation de Pleine Conscience\, s’alternent\, selon le rythme du groupe. \nINFORMATIONS \nRESERVATIONS \nJanie Aschieri – Psychologue \n\nChia\, M. & Saxer\, D. (1997). La sagesse émotionnelle. Guy Trédaniel Editeur. \nCottraux\, J. (2011). Thérapie cognitive et émotions\, Elvesier Masson. \nKabat-Zinn\, J. (2009). Au coeur de la tourmente\, la pleine conscience\, Editions J’ai lu. \nThich Nhat Hanh (2014). Prendre soin de l’enfant intérieur\, faire la paix avec soi\, Belfond. \nTolle\, E. (2010). Le pouvoir du moment présent\, guide d’éveil spirituel\, Editions J’ai lu.
URL:https://www.janie-aschieri.fr/event/initiation-a-la-pleine-conscience-de-soi-exploration-des-emotions/
LOCATION:Plage des aresquiers\, plage des aresquiers\, Frontignan\, 34110\, France
CATEGORIES:INITIATION
ATTACH;FMTTYPE=image/png:https://www.janie-aschieri.fr/wp-content/uploads/2025/10/10.png
END:VEVENT
BEGIN:VEVENT
DTSTART;TZID=Europe/Paris:20251025T160000
DTEND;TZID=Europe/Paris:20251025T180000
DTSTAMP:20260420T105010
CREATED:20251016T104009Z
LAST-MODIFIED:20251016T104009Z
UID:2642-1761408000-1761415200@www.janie-aschieri.fr
SUMMARY:INITIATION à la Pleine Conscience de Soi - Reconnexion au corps
DESCRIPTION:Les ateliers d’initiation à la Pleine Conscience de Soi\, c’est l’occasion de s’offrir un espace à Soi d’introspection. \nNous passons 2H ensemble pour comprendre davantage qui vous êtes. Vous choisissez une thématique\, quelque chose que vous souhaitez comprendre (émotions\, pensées\, automatismes\, comportements\, troubles\, etc.). Les ateliers d’INITIATION permettent de se familiariser avec les outils d’introspection. \nLe concept est d’adapter les principes de la Méditation de Pleine Conscience à la Psychologie\, afin de prêter une attention particulière sur nous. Des temps de marche\, de réflexion\, de partage\, d’échange\, de méditation\, s’alternent\, selon le rythme du groupe. \nCet atelier sera destiné à la reconnexion au corps afin de développer plus d’écoute et compréhension quant aux signaux qu’il nous envoie. Le corps est le messager de notre inconscient. Il s’exprime à travers le symbole\, celui des maux. \nINFORMATIONS \nRESERVATIONS \nJanie Aschieri – Psychologue \n\nChia\, M. & Saxer\, D. (1997). La sagesse émotionnelle. Guy Trédaniel Editeur. \nCottraux\, J. (2011). Thérapie cognitive et émotions\, Elvesier Masson. \nKabat-Zinn\, J. (2009). Au coeur de la tourmente\, la pleine conscience\, Editions J’ai lu. \nThich Nhat Hanh (2014). Prendre soin de l’enfant intérieur\, faire la paix avec soi\, Belfond. \nTolle\, E. (2010). Le pouvoir du moment présent\, guide d’éveil spirituel\, Editions J’ai lu.
URL:https://www.janie-aschieri.fr/event/initiation-a-la-pleine-conscience-de-soi-reconnexion-au-corps-2/
LOCATION:Plage des aresquiers\, plage des aresquiers\, Frontignan\, 34110\, France
CATEGORIES:INITIATION
ATTACH;FMTTYPE=image/jpeg:https://www.janie-aschieri.fr/wp-content/uploads/2025/08/corps-coeur-esprit-janie-aschieri.jpg
END:VEVENT
BEGIN:VEVENT
DTSTART;TZID=Europe/Paris:20250921T170000
DTEND;TZID=Europe/Paris:20250921T190000
DTSTAMP:20260420T105010
CREATED:20250909T094947Z
LAST-MODIFIED:20250909T094947Z
UID:2635-1758474000-1758481200@www.janie-aschieri.fr
SUMMARY:INITIATION à la Pleine Conscience de Soi - Reconnexion au corps
DESCRIPTION:Les ateliers d’initiation à la Pleine Conscience de Soi\, c’est l’occasion de s’offrir un espace à Soi d’introspection. \nNous passons 2H ensemble pour comprendre davantage qui vous êtes. Vous choisissez une thématique\, quelque chose que vous souhaitez comprendre (émotions\, pensées\, automatismes\, comportements\, troubles\, etc.). Les ateliers d’INITIATION permettent de se familiariser avec les outils d’introspection. \nLe concept est d’adapter les principes de la Méditation de Pleine Conscience à la Psychologie\, afin de prêter une attention particulière sur nous. Des temps de marche\, de réflexion\, de partage\, d’échange\, de méditation\, s’alternent\, selon le rythme du groupe. \nCet atelier sera destiné à la reconnexion au corps afin de développer plus d’écoute et compréhension quant aux signaux qu’il nous envoie. Le corps est le messager de notre inconscient. Il s’exprime à travers le symbole\, celui des maux. \nINFORMATIONS \nRESERVATIONS \nJanie Aschieri – Psychologue \n\nChia\, M. & Saxer\, D. (1997). La sagesse émotionnelle. Guy Trédaniel Editeur. \nCottraux\, J. (2011). Thérapie cognitive et émotions\, Elvesier Masson. \nKabat-Zinn\, J. (2009). Au coeur de la tourmente\, la pleine conscience\, Editions J’ai lu. \nThich Nhat Hanh (2014). Prendre soin de l’enfant intérieur\, faire la paix avec soi\, Belfond. \nTolle\, E. (2010). Le pouvoir du moment présent\, guide d’éveil spirituel\, Editions J’ai lu.
URL:https://www.janie-aschieri.fr/event/reconnexion-au-corps/
LOCATION:Plage des aresquiers\, plage des aresquiers\, Frontignan\, 34110\, France
CATEGORIES:INITIATION
ATTACH;FMTTYPE=image/jpeg:https://www.janie-aschieri.fr/wp-content/uploads/2025/09/effet-miroir-psy-online.jpg
END:VEVENT
BEGIN:VEVENT
DTSTART;TZID=Europe/Paris:20250914T160000
DTEND;TZID=Europe/Paris:20250914T180000
DTSTAMP:20260420T105010
CREATED:20250830T102700Z
LAST-MODIFIED:20250830T102700Z
UID:2629-1757865600-1757872800@www.janie-aschieri.fr
SUMMARY:INITIATION Plaine Conscience de Soi - Dans le monde des pensées
DESCRIPTION:Dans le monde des pensées \nLes ateliers d’initiation à la Pleine Conscience de Soi\, c’est l’occasion de s’offrir un espace à Soi d’introspection. \nNous passons 2H ensemble pour comprendre davantage qui vous êtes. Vous choisissez une thématique\, quelque chose que vous souhaitez comprendre (émotions\, automatismes\, comportements\, troubles\, etc.). Les ateliers d’INITIATION permettent de se familiariser avec les outils d’introspection. \nLe concept est d’adapter les principes de la Méditation de Pleine Conscience à la Psychologie\, afin de prêter une attention particulière sur nous. Des temps de marche\, de réflexion\, de partage\, d’échange\, de méditation\, s’alternent\, selon le rythme du groupe \nCet atelier sera dédié au monde des pensées. L’idée est de comprendre comment notre système de pensées fonctionne afin d’y prête une attention particulière et d’y être davantage à l’écoute. Nos pensées nous renseignent sur la façon dont nous nous sommes construits car elles sont le reflet de tous nos apprentissages (enseignements culturels\, dictats familiaux\, croyances\, etc.). \nINFORMATIONS \nRESERVATIONS \nJanie Aschieri – Psychologue
URL:https://www.janie-aschieri.fr/event/initiation-plaine-conscience-de-soi-dans-le-monde-des-pensees/
LOCATION:Plage des aresquiers\, plage des aresquiers\, Frontignan\, 34110\, France
CATEGORIES:INITIATION
ATTACH;FMTTYPE=image/jpeg:https://www.janie-aschieri.fr/wp-content/uploads/2025/08/rumination.jpg
END:VEVENT
BEGIN:VEVENT
DTSTART;TZID=Europe/Paris:20250906T090000
DTEND;TZID=Europe/Paris:20250906T110000
DTSTAMP:20260420T105010
CREATED:20250830T093940Z
LAST-MODIFIED:20250830T093940Z
UID:2626-1757149200-1757156400@www.janie-aschieri.fr
SUMMARY:INITIATION à la Pleine Conscience de Soi - Reconnexion au corps
DESCRIPTION:Les ateliers d’initiation à la Pleine Conscience de Soi\, c’est l’occasion de s’offrir un espace à Soi d’introspection. \nNous passons 2H ensemble pour comprendre davantage qui vous êtes. Vous choisissez une thématique\, quelque chose que vous souhaitez comprendre (émotions\, pensées\, automatismes\, comportements\, troubles\, etc.). Les ateliers d’INITIATION permettent de se familiariser avec les outils d’introspection. \nLe concept est d’adapter les principes de la Méditation de Pleine Conscience à la Psychologie\, afin de prêter une attention particulière sur nous. Des temps de marche\, de réflexion\, de partage\, d’échange\, de méditation\, s’alternent\, selon le rythme du groupe. \nCet atelier sera destiné à la reconnexion au corps afin de développer plus d’écoute et compréhension quant aux signaux qu’il nous envoie. Le corps est le messager de notre inconscient. Il s’exprime à travers le symbole\, celui des maux. \nINFORMATIONS \nRESERVATIONS \nJanie Aschieri – Psychologue \n\n 
URL:https://www.janie-aschieri.fr/event/initiation-a-la-pleine-conscience-de-soi-reconnexion-au-corps/
LOCATION:Bois des aresquiers\, 34 chemin de la poule d'eau\, vic la gardiole\, 34110\, France
CATEGORIES:INITIATION
ATTACH;FMTTYPE=image/jpeg:https://www.janie-aschieri.fr/wp-content/uploads/2025/08/corps-coeur-esprit-janie-aschieri.jpg
END:VEVENT
BEGIN:VEVENT
DTSTART;TZID=Europe/Paris:20250904T180000
DTEND;TZID=Europe/Paris:20250904T200000
DTSTAMP:20260420T105010
CREATED:20250807T122621Z
LAST-MODIFIED:20250807T122621Z
UID:2614-1757008800-1757016000@www.janie-aschieri.fr
SUMMARY:INITIATION à la Pleine Conscience de Soi - Exploration des émotions
DESCRIPTION:Les ateliers d’initiation à la Pleine Conscience de Soi\, c’est l’occasion de s’offrir un espace à Soi d’introspection. \nNous passons 2H ensemble pour comprendre davantage qui vous êtes. Vous choisissez une thématique\, quelque chose que vous souhaitez comprendre (émotions\, pensées\, automatismes\, comportements\, troubles\, etc.). Les ateliers d’INITIATION permettent de se familiariser avec les outils d’introspection. \nLe concept est d’adapter les principes de la Méditation de Pleine Conscience à la Psychologie\, afin de prêter une attention particulière sur nous. Des temps de marche\, de réflexion\, de partage\, d’échange\, de méditation\, s’alternent\, selon le rythme du groupe. \nINFORMATIONS \nRESERVATIONS \nJanie Aschieri – Psychologue
URL:https://www.janie-aschieri.fr/event/initiation-a-la-pleine-conscience-de-soi-6/
LOCATION:Plage des aresquiers\, plage des aresquiers\, Frontignan\, 34110\, France
CATEGORIES:INITIATION
ATTACH;FMTTYPE=image/jpeg:https://www.janie-aschieri.fr/wp-content/uploads/2025/08/20220512_134535-scaled.jpg
END:VEVENT
BEGIN:VEVENT
DTSTART;TZID=Europe/Paris:20250828T180000
DTEND;TZID=Europe/Paris:20250828T200000
DTSTAMP:20260420T105010
CREATED:20250728T091221Z
LAST-MODIFIED:20250807T122923Z
UID:2579-1756404000-1756411200@www.janie-aschieri.fr
SUMMARY:INITIATION à la Pleine Conscience de Soi - Reconnexion au corps
DESCRIPTION:Les ateliers d’initiation à la Pleine Conscience de Soi\, c’est l’occasion de s’offrir un espace à Soi d’introspection. \nNous passons 2H ensemble pour comprendre davantage qui vous êtes. Vous choisissez une thématique\, quelque chose que vous souhaitez comprendre (émotions\, pensées\, automatismes\, comportements\, troubles\, etc.). Les ateliers d’INITIATION à la Pleine Conscience permettent de se familiariser avec les outils d’introspection. \nLe concept est d’adapter les principes de la Méditation de Pleine Conscience à la Psychologie\, afin de prêter une attention particulière sur nous. Des temps de marche\, de réflexion\, de partage\, d’échange\, de Méditation de Pleine Conscience\, s’alternent\, selon le rythme du groupe. \nINFORMATIONS \nRESERVATIONS \nJanie Aschieri – Psychologue \n\nChia\, M. & Saxer\, D. (1997). La sagesse émotionnelle. Guy Trédaniel Editeur. \nCottraux\, J. (2011). Thérapie cognitive et émotions\, Elvesier Masson. \nKabat-Zinn\, J. (2009). Au coeur de la tourmente\, la pleine conscience\, Editions J’ai lu. \nThich Nhat Hanh (2014). Prendre soin de l’enfant intérieur\, faire la paix avec soi\, Belfond. \nTolle\, E. (2010). Le pouvoir du moment présent\, guide d’éveil spirituel\, Editions J’ai lu.
URL:https://www.janie-aschieri.fr/event/initiation-a-la-pleine-conscience-de-soi-5/
LOCATION:Plage des aresquiers\, plage des aresquiers\, Frontignan\, 34110\, France
CATEGORIES:INITIATION
ATTACH;FMTTYPE=image/png:https://www.janie-aschieri.fr/wp-content/uploads/2025/07/pleine-conscience.png
END:VEVENT
BEGIN:VEVENT
DTSTART;TZID=Europe/Paris:20250821T180000
DTEND;TZID=Europe/Paris:20250821T200000
DTSTAMP:20260420T105010
CREATED:20250726T124426Z
LAST-MODIFIED:20250807T122849Z
UID:2573-1755799200-1755806400@www.janie-aschieri.fr
SUMMARY:INITIATION à la Pleine Conscience de Soi - Exploration des émotions
DESCRIPTION:Les ateliers d’initiation à la Pleine Conscience de Soi en groupe\, c’est l’occasion de s’offrir un espace à Soi d’introspection. \nNous passons 2H ensemble pour comprendre davantage qui vous êtes. Vous choisissez une thématique\, quelque chose que vous souhaitez comprendre (émotions\, pensées\, automatismes\, comportements\, troubles\, etc.). Les ateliers d’INITIATION à la Pleine Conscience de Soi permettent de se familiariser avec les outils d’introspection. \nLe concept est d’adapter les principes de la Méditation de Pleine Conscience à la Psychologie\, afin de prêter une attention particulière sur nous. Des temps de marche\, de réflexion\, de partage\, d’échange\, de Méditation de Pleine Conscience\, s’alternent\, selon le rythme du groupe. \nINFORMATIONS \nRESERVATIONS \nJanie Aschieri – Psychologue \n\nChia\, M. & Saxer\, D. (1997). La sagesse émotionnelle. Guy Trédaniel Editeur. \nCottraux\, J. (2011). Thérapie cognitive et émotions\, Elvesier Masson. \nKabat-Zinn\, J. (2009). Au coeur de la tourmente\, la pleine conscience\, Editions J’ai lu. \nThich Nhat Hanh (2014). Prendre soin de l’enfant intérieur\, faire la paix avec soi\, Belfond. \nTolle\, E. (2010). Le pouvoir du moment présent\, guide d’éveil spirituel\, Editions J’ai lu.
URL:https://www.janie-aschieri.fr/event/initiation-a-la-pleine-conscience-de-soi-4/
LOCATION:Bois des aresquiers\, 34 chemin de la poule d'eau\, vic la gardiole\, 34110\, France
CATEGORIES:INITIATION
ATTACH;FMTTYPE=image/jpeg:https://www.janie-aschieri.fr/wp-content/uploads/2017/05/psychologie-montpellier.jpg
END:VEVENT
BEGIN:VEVENT
DTSTART;TZID=Europe/Paris:20250816T090000
DTEND;TZID=Europe/Paris:20250816T110000
DTSTAMP:20260420T105010
CREATED:20250707T141739Z
LAST-MODIFIED:20250718T090004Z
UID:2544-1755334800-1755342000@www.janie-aschieri.fr
SUMMARY:INITIATION à la Pleine Conscience de Soi
DESCRIPTION:Les ateliers d’initiation à la Pleine Conscience de Soi en groupe\, c’est l’occasion de s’offrir un espace à Soi d’introspection. \nNous passons 2H ensemble pour comprendre davantage qui vous êtes. Vous choisissez une thématique\, quelque chose que vous souhaitez comprendre (émotions\, pensées\, automatismes\, comportements\, troubles\, etc.). Les ateliers d’INITIATION permettent de se familiariser avec les outils d’introspection. \nLe concept est d’adapter les principes de la Méditation de Pleine Conscience à la Psychologie\, afin de prêter une attention particulière sur nous. Des temps de marche\, de réflexion\, de partage\, d’échange\, de Méditation de Pleine Conscience\, s’alternent\, selon le rythme du groupe. \nINFORMATIONS \nRESERVATIONS \nJanie Aschieri – Psychologue \n\nChia\, M. & Saxer\, D. (1997). La sagesse émotionnelle. Guy Trédaniel Editeur. \nCottraux\, J. (2011). Thérapie cognitive et émotions\, Elvesier Masson. \nKabat-Zinn\, J. (2009). Au coeur de la tourmente\, la pleine conscience\, Editions J’ai lu. \nThich Nhat Hanh (2014). Prendre soin de l’enfant intérieur\, faire la paix avec soi\, Belfond. \nTolle\, E. (2010). Le pouvoir du moment présent\, guide d’éveil spirituel\, Editions J’ai lu.
URL:https://www.janie-aschieri.fr/event/initiation-pleine-conscience-de-soi/
LOCATION:Bois des aresquiers\, 34 chemin de la poule d'eau\, vic la gardiole\, 34110\, France
CATEGORIES:INITIATION
ATTACH;FMTTYPE=image/jpeg:https://www.janie-aschieri.fr/wp-content/uploads/2023/09/Psychologue-Montpellier-3-scaled.jpg
END:VEVENT
BEGIN:VEVENT
DTSTART;TZID=Europe/Paris:20250814T180000
DTEND;TZID=Europe/Paris:20250814T200000
DTSTAMP:20260420T105010
CREATED:20250707T142132Z
LAST-MODIFIED:20250807T121820Z
UID:2546-1755194400-1755201600@www.janie-aschieri.fr
SUMMARY:INITIATION à la Pleine Conscience de Soi - Reconnexion au corps
DESCRIPTION:Les ateliers d’initiation à la Pleine Conscience de Soi\, c’est l’occasion de s’offrir un espace à Soi d’introspection. \nNous passons 2H ensemble pour comprendre davantage qui vous êtes. Vous choisissez une thématique\, quelque chose que vous souhaitez comprendre (émotions\, pensées\, automatismes\, comportements\, troubles\, etc.). Les ateliers d’INITIATION permettent de se familiariser avec les outils d’introspection. \nLe concept est d’adapter les principes de la Méditation de Pleine Conscience à la Psychologie\, afin de prêter une attention particulière sur nous. Des temps de marche\, de réflexion\, de partage\, d’échange\, de Méditation de Pleine Conscience\, s’alternent\, selon le rythme du groupe. \nINFORMATIONS \nRESERVATIONS \nJanie Aschieri – Psychologue \n\nChia\, M. & Saxer\, D. (1997). La sagesse émotionnelle. Guy Trédaniel Editeur. \nCottraux\, J. (2011). Thérapie cognitive et émotions\, Elvesier Masson. \nKabat-Zinn\, J. (2009). Au coeur de la tourmente\, la pleine conscience\, Editions J’ai lu. \nThich Nhat Hanh (2014). Prendre soin de l’enfant intérieur\, faire la paix avec soi\, Belfond. \nTolle\, E. (2010). Le pouvoir du moment présent\, guide d’éveil spirituel\, Editions J’ai lu.
URL:https://www.janie-aschieri.fr/event/initiation-a-la-pleine-conscience-de-soi-3/
LOCATION:Plage des aresquiers\, plage des aresquiers\, Frontignan\, 34110\, France
CATEGORIES:INITIATION
ATTACH;FMTTYPE=image/jpeg:https://www.janie-aschieri.fr/wp-content/uploads/2025/03/janie-aschieri-pleine-conscience-ateliers.jpg
END:VEVENT
BEGIN:VEVENT
DTSTART;TZID=Europe/Paris:20250726T180000
DTEND;TZID=Europe/Paris:20250726T200000
DTSTAMP:20260420T105010
CREATED:20250707T132451Z
LAST-MODIFIED:20250718T085932Z
UID:2535-1753552800-1753560000@www.janie-aschieri.fr
SUMMARY:INITIATION à la Pleine Conscience de Soi
DESCRIPTION:Les ateliers d’initiation à la Pleine Conscience de Soi en groupe\, c’est l’occasion de s’offrir un espace à Soi d’introspection. \nNous passons 2H ensemble pour comprendre davantage qui vous êtes. Vous choisissez une thématique\, quelque chose que vous souhaitez comprendre (émotions\, pensées\, automatismes\, comportements\, troubles\, etc.). Les ateliers d’INITIATION permettent de se familiariser avec les outils d’introspection. \nLe concept est d’adapter les principes de la Méditation de Pleine Conscience à la Psychologie\, afin de prêter une attention particulière sur nous. Des temps de marche\, de réflexion\, de partage\, d’échange\, de Méditation de Pleine Conscience\, s’alternent\, selon le rythme du groupe. \nINFORMATIONS \nRESERVATIONS \nJanie Aschieri – Psychologue \n\nChia\, M. & Saxer\, D. (1997). La sagesse émotionnelle. Guy Trédaniel Editeur. \nCottraux\, J. (2011). Thérapie cognitive et émotions\, Elvesier Masson. \nKabat-Zinn\, J. (2009). Au coeur de la tourmente\, la pleine conscience\, Editions J’ai lu. \nThich Nhat Hanh (2014). Prendre soin de l’enfant intérieur\, faire la paix avec soi\, Belfond. \nTolle\, E. (2010). Le pouvoir du moment présent\, guide d’éveil spirituel\, Editions J’ai lu.
URL:https://www.janie-aschieri.fr/event/initiation-a-la-pleine-conscience-de-soi-2/
LOCATION:Bois des aresquiers\, 34 chemin de la poule d'eau\, vic la gardiole\, 34110\, France
CATEGORIES:INITIATION
ATTACH;FMTTYPE=image/jpeg:https://www.janie-aschieri.fr/wp-content/uploads/2025/03/pleine-conscience-de-soi-ateliers-e1741115699991.jpg
END:VEVENT
BEGIN:VEVENT
DTSTART;TZID=Europe/Paris:20250726T090000
DTEND;TZID=Europe/Paris:20250726T110000
DTSTAMP:20260420T105010
CREATED:20250611T143426Z
LAST-MODIFIED:20250718T085854Z
UID:2507-1753520400-1753527600@www.janie-aschieri.fr
SUMMARY:INITIATION à la Pleine Conscience de Soi
DESCRIPTION:Les ateliers d’initiation à la Pleine Conscience de Soi\, c’est l’occasion de s’offrir un espace à Soi d’introspection. \nNous passons 2H ensemble pour comprendre davantage qui vous êtes. Vous choisissez une thématique\, quelque chose que vous souhaitez comprendre (émotions\, pensées\, automatismes\, comportements\, troubles\, etc.). Les ateliers d’INITIATION permettent de se familiariser avec les outils d’introspection. \nLe concept est d’adapter les principes de la Méditation de Pleine Conscience à la Psychologie\, afin de prêter une attention particulière sur nous. Des temps de marche\, de réflexion\, de partage\, d’échange\, de Méditation de Pleine Conscience\, s’alternent\, selon le rythme du groupe. \nINFORMATIONS \nRESERVATIONS \nJanie Aschieri – Psychologue \n\nChia\, M. & Saxer\, D. (1997). La sagesse émotionnelle. Guy Trédaniel Editeur. \nCottraux\, J. (2011). Thérapie cognitive et émotions\, Elvesier Masson. \nKabat-Zinn\, J. (2009). Au coeur de la tourmente\, la pleine conscience\, Editions J’ai lu. \nThich Nhat Hanh (2014). Prendre soin de l’enfant intérieur\, faire la paix avec soi\, Belfond. \nTolle\, E. (2010). Le pouvoir du moment présent\, guide d’éveil spirituel\, Editions J’ai lu.
URL:https://www.janie-aschieri.fr/event/initiation-a-la-pleine-conscience-de-soi/
LOCATION:Bois des aresquiers\, 34 chemin de la poule d'eau\, vic la gardiole\, 34110\, France
CATEGORIES:INITIATION
ATTACH;FMTTYPE=image/jpeg:https://www.janie-aschieri.fr/wp-content/uploads/2025/03/Pleine-conscience-de-soi-atelier-janie-aschieri-scaled.jpg
END:VEVENT
END:VCALENDAR